BEGIN:VCALENDAR
VERSION:2.0
CALSCALE:GREGORIAN
PRODID:-//Diputació de Barcelona//DibaCMS//EN
BEGIN:VEVENT
UID:2695
DTSTAMP:20260423T044146
DTSTART:20160607T090000
DTEND:20160608T200000
SUMMARY:POSA'M AL BALCÓ!
LOCATION:
METHOD:PUBLISH
X-WR-CALNAME:ullastrell@ullastrell.cat
X-WR-TIMEZONE:Europe/Madrid
DESCRIPTION:El dia 5 de juny és el dia Mundial del Medi Ambient i és per això que novament ho celebrem regalant flors en col.laboració amb FUPAR per què llueixin als balcons, finestres i terrats d'Ullastrell!
Porta el VAL que surt a dins de LA REVISTA maig-juny 2016, a les oficines de l'Ajuntament els dies:

Dimarts 7 de juny de 9h. a 14h.
Dimecres 8 de juny de 9h. a 14h. i de 17h. a 20h.

I t'emportaràs una bonica flor per què la posis a casa teva i així Ullastrell sigui una Vila Florida!
Anima't a omplir de flors el teu balcó!
 
 Lloc: AjuntamentOrganitzador: Reg. Medi Ambient
URI:https://www.ullastrell.cat/actualitat/agenda/posam-al-balco.html
CLASS:PUBLIC
END:VEVENT
END:VCALENDAR
