BEGIN:VCALENDAR
VERSION:2.0
CALSCALE:GREGORIAN
PRODID:-//Diputació de Barcelona//DibaCMS//EN
BEGIN:VEVENT
UID:2698
DTSTAMP:20260423T075355
DTSTART:20160629T200000
DTEND:20160629T000000
SUMMARY:POUM - SESSIÓ INFORMATIVA - 29/06/2016
LOCATION:
METHOD:PUBLISH
X-WR-CALNAME:ullastrell@ullastrell.cat
X-WR-TIMEZONE:Europe/Madrid
DESCRIPTION:Especial: Pla de Mobilitat  i informe de sostenibilitat 
Es portarà a terme la quarta i última sessió informativa del contingut del POUM que es troba en fase d'aprovació inicial.
La regidora d'Urbanisme explicarà cada apartat del POUM i es finalitzarà amb un torn obert de preguntes per tal de respondre tots aquells dubtes que pugui generar el POUM.
http://www.ullastrell.cat/seu-electronica/poum
 Lloc: AjuntamentOrganitzador: Reg. Urbanisme
URI:https://www.ullastrell.cat/actualitat/agenda/poum-sessio-informativa-29062016.html
CLASS:PUBLIC
END:VEVENT
END:VCALENDAR
