BEGIN:VCALENDAR
VERSION:2.0
CALSCALE:GREGORIAN
PRODID:-//Diputació de Barcelona//DibaCMS//EN
BEGIN:VEVENT
UID:2699
DTSTAMP:20260423T121428
DTSTART:20160611T090000
DTEND:20160611T000000
SUMMARY:TORNEIG DE FUTBOL
LOCATION:
METHOD:PUBLISH
X-WR-CALNAME:ullastrell@ullastrell.cat
X-WR-TIMEZONE:Europe/Madrid
DESCRIPTION:Torneig de futbol dels equips Benjamí i Pre-Benjamí B
Al llarg del matí al camp de futbol municipalLloc: Camp MunicipalOrganitzador: Ullastrell C.F.
URI:https://www.ullastrell.cat/actualitat/agenda/torneig-de-futbol.html
CLASS:PUBLIC
END:VEVENT
END:VCALENDAR
