BEGIN:VCALENDAR
VERSION:2.0
CALSCALE:GREGORIAN
PRODID:-//Diputació de Barcelona//DibaCMS//EN
BEGIN:VEVENT
UID:2700
DTSTAMP:20260423T134253
DTSTART:20160611T180000
DTEND:20160611T000000
SUMMARY:CONCERT I SOPAR FINAL DE CURS
LOCATION:
METHOD:PUBLISH
X-WR-CALNAME:ullastrell@ullastrell.cat
X-WR-TIMEZONE:Europe/Madrid
DESCRIPTION:Celebració del final de curs dels alumnes de l'escola SerralavellaLloc: Casal i PistaOrganitzador: AMPA Escola Serralavella
URI:https://www.ullastrell.cat/actualitat/agenda/concert-i-sopar-final-de-curs.html
CLASS:PUBLIC
END:VEVENT
END:VCALENDAR
