BEGIN:VCALENDAR
VERSION:2.0
CALSCALE:GREGORIAN
PRODID:-//Diputació de Barcelona//DibaCMS//EN
BEGIN:VEVENT
UID:2701
DTSTAMP:20260423T033951
DTSTART:20160618T203000
DTEND:20160618T000000
SUMMARY:ÒPERA "Orfeu i Eurídice" - 18/06/2016
LOCATION:
METHOD:PUBLISH
X-WR-CALNAME:ullastrell@ullastrell.cat
X-WR-TIMEZONE:Europe/Madrid
DESCRIPTION:La Coral d'Ullastrell, conjuntament amb les corals Cor Xera de Tarragona, Cor de l'Agrupació Musical de Cerdanyola, Cor de Veus de Músic de Castelldefels, l'Aula municipal de Dansa de Balaguer, l'Orquestra Barcino i tres solistes de l'ESMUC, presenten l'òpera "Orfeu i Eurídice" al Casal Cultural de Castellbisbal.
Prèviament, a les 20:30h. hi haurà una petita conferència sobre l'òpera a càrrec de la periodista Rosa Massagué.
 
Es poden comprar les entrades presencialment: 
el DIVENDRES 17 juny de 6 a 8 de la tarda a l'entrada del Casal d'Ullastrell
o be per internet, clicant aquí:
Compra entrades "Orfeu i Eurídice" a Castellbisbal
Entrada general:
10€  - antcipada (no numerades)
12€  - a taquilla (el mateix dissabte a Castellbisbal)
 
Casal Cultural de CastellbisbalLloc: Casal de CastellbisbalOrganitzador: Coral d'Ullastrell
URI:https://www.ullastrell.cat/actualitat/agenda/opera-orfeu-i-euridice-18062016.html
CLASS:PUBLIC
END:VEVENT
END:VCALENDAR
