BEGIN:VCALENDAR
VERSION:2.0
CALSCALE:GREGORIAN
PRODID:-//Diputació de Barcelona//DibaCMS//EN
BEGIN:VEVENT
UID:2702
DTSTAMP:20260423T133652
DTSTART:20160702T200000
DTEND:20160702T000000
SUMMARY:ÒPERA "Orfeu i Eurídice" - 02/07/2016
LOCATION:
METHOD:PUBLISH
X-WR-CALNAME:ullastrell@ullastrell.cat
X-WR-TIMEZONE:Europe/Madrid
DESCRIPTION:La Coral d'Ullastrell, conjuntament amb les corals Cor Xera de Tarragona, Cor de l'Agrupació Musical de Cerdanyola, Cor de Veus de Músic de Castelldefels, l'Aula municipal de Dansa de Balaguer, l'Orquestra Barcino i tres solistes de l'ESMUC, presenten l'òpera "Orfeu i Eurídice" al Teatre Tarragona.
Prèviament hi haurà una petita conferència sobre l'òpera a càrrec de la periodista Rosa Massagué.
 
Es poden comprar les entrades numerades clicant aquí:
Compra entrada "Orfeu i Eurídice" a Tarragona
Entrada platea: 12€
Entrada amfiteatre: 10€
 
Teatre Tarragona
Rambla Nova, 11
(Tarragona)Lloc: Teatre Tarragona (TARRAGONA)Organitzador: Coral d'Ullastrell
URI:https://www.ullastrell.cat/actualitat/agenda/opera-orfeu-i-euridice-02072016.html
CLASS:PUBLIC
END:VEVENT
END:VCALENDAR
