BEGIN:VCALENDAR
VERSION:2.0
CALSCALE:GREGORIAN
PRODID:-//Diputació de Barcelona//DibaCMS//EN
BEGIN:VEVENT
UID:2703
DTSTAMP:20260423T035628
DTSTART:20160623T210000
DTEND:20160623T000000
SUMMARY:ARRIBADA DE LA FLAMA DEL CANIGÓ - 23/06/2016
LOCATION:
METHOD:PUBLISH
X-WR-CALNAME:ullastrell@ullastrell.cat
X-WR-TIMEZONE:Europe/Madrid
DESCRIPTION:BENVINGUDA A ULLASTRELL  A les 9 del vespre concentració al PadróEl dia 23 al vespre arriba de mans de corredors locals la Flama del Canigó per encendre la Foguera de Sant Joan.
A ¼ de 10, lectura del Manifest 2016 i cercavila pel c/Serra,  Passatge Verge Montserrat i CTRA. Olesa on farem l' Encesa de la foguera
TOTHOM HI ÉS CONVIDAT !! Vine a acompanyar a grallers i tabalers  fent que l'arribada de la Flama ens renovi l'esperit fester. Obsequi d'una estelada.
A partir del 23 al matí es podrà deixar la fusta que tingueu per cremar  a l'espai indicat per l'ajuntament al pàrquing escola vella.ATENCIÓ CORREDORS!!!! Concentració a les 20:15h. A l'entrada de Ca N'Amat per la Ctra. de Martorell-Terrassa, per fer recorregut per C/De laVall
 
*Molta precaució amb el foc i vigileu els més petits de casa amb els petards i la foguera.Lloc: Font del PadróOrganitzador: ANC Ullastrell
URI:https://www.ullastrell.cat/actualitat/agenda/arribada-de-la-flama-del-canigo-23062016.html
CLASS:PUBLIC
END:VEVENT
END:VCALENDAR
