BEGIN:VCALENDAR
VERSION:2.0
CALSCALE:GREGORIAN
PRODID:-//Diputació de Barcelona//DibaCMS//EN
BEGIN:VEVENT
UID:2704
DTSTAMP:20260423T200912
DTSTART:20160708T213000
DTEND:20160708T000000
SUMMARY:Liceu a la Fresca: La Bohème
LOCATION:
METHOD:PUBLISH
X-WR-CALNAME:ullastrell@ullastrell.cat
X-WR-TIMEZONE:Europe/Madrid
DESCRIPTION:Projecció de l'òpera "La Bohème" en pantalla gegant a la Plaça de les Escoles i conexió en fals-directe del Liceu.
Presentació a càrrec de la periodista Rosa Massagué.
 
21:30h. S'obren les portes de la Plaça de les Escoles
21:45h. Presentació a càrrec de la periodista Rosa Massagué
22:00h. Connectem amb el Liceu
 
*No hi ha reserva de cadires i l'aforament és limitatLloc: Plaça de les EscolesOrganitzador: Reg. Cultura
URI:https://www.ullastrell.cat/actualitat/agenda/liceu-a-la-fresca-la-boheme.html
CLASS:PUBLIC
END:VEVENT
END:VCALENDAR
