BEGIN:VCALENDAR
VERSION:2.0
CALSCALE:GREGORIAN
PRODID:-//Diputació de Barcelona//DibaCMS//EN
BEGIN:VEVENT
UID:2705
DTSTAMP:20260422T232831
DTSTART:20160717T190000
DTEND:20160717T000000
SUMMARY:"NO ÉS TAN FÀCIL"  Una comèdia de Paco Mir
LOCATION:
METHOD:PUBLISH
X-WR-CALNAME:ullastrell@ullastrell.cat
X-WR-TIMEZONE:Europe/Madrid
DESCRIPTION:"NO ÉS TAN FÀCIL" Una comèdia de Paco Mir
Espectacle dins dels actes d'aniversari del Casal Cultural, el diumenge 17 de juliol a les 7 de la tarda a la Sala d'actes.
 
VENDA D'ENTRADES: 
A la Biblioteca Josep Massagué
de dilluns a divendres de 16.30h. a 20h
i 1/2h abans de l'espectacle
Preu:10€
 
SINOPSIS:No es tan fàcil  Un vol deixar la seva parella i no sap com fer-ho. En aquest cas es tracta del Quique que vol deixar l'Andrea. Com? No és tan fàcil.
Només tres personatges parlant sobre el desamor, que és com parlar de res. És un recorregut per la imaginació del protagonista, on l'espectador (o l'espectadora) s'identifica absolutament.
És una comèdia íntima sobre la parella però, per sobre de tot, un exercici d'estil sobre l'obsessió: la del protagonista - que busca les mil maneres de donar el que ell creu que és una mala notícia-, i la del l'autor - que és va entestar a donar-li un sentit teatral a la reiteració sobre el mateix tema intentant no sortir-se d'unes premisses realistes.
 Lloc: Sala d'actes del casalOrganitzador: Casal Cultural
URI:https://www.ullastrell.cat/actualitat/agenda/no-es-tan-facil-una-comedia-de-paco-mir.html
CLASS:PUBLIC
END:VEVENT
END:VCALENDAR
