BEGIN:VCALENDAR
VERSION:2.0
CALSCALE:GREGORIAN
PRODID:-//Diputació de Barcelona//DibaCMS//EN
BEGIN:VEVENT
UID:2706
DTSTAMP:20260423T081334
DTSTART:20160627T210000
DTEND:20160627T000000
SUMMARY:INICI CAMPIONAT FUTBOL SALA
LOCATION:
METHOD:PUBLISH
X-WR-CALNAME:ullastrell@ullastrell.cat
X-WR-TIMEZONE:Europe/Madrid
DESCRIPTION:Inici de la competició de Futbol Sala que durarà fins el 29 de JuliolLloc: Pista poliesportivaOrganitzador: CF Ullastrell
URI:https://www.ullastrell.cat/actualitat/agenda/inici-campionat-futbol-sala.html
CLASS:PUBLIC
END:VEVENT
END:VCALENDAR
