BEGIN:VCALENDAR
VERSION:2.0
CALSCALE:GREGORIAN
PRODID:-//Diputació de Barcelona//DibaCMS//EN
BEGIN:VEVENT
UID:2707
DTSTAMP:20260423T045049
DTSTART:20160626T090000
DTEND:20160626T200000
SUMMARY:ELECCIONS GENERALS - 26/06/2016
LOCATION:
METHOD:PUBLISH
X-WR-CALNAME:ullastrell@ullastrell.cat
X-WR-TIMEZONE:Europe/Madrid
DESCRIPTION:El col.legi electoral d'Ullastrell està situat a la Plaça de les Escoles, a l'antic gimnàs.
L'horari serà de 9h. a 20h.
Per més informació:
http://www.juntaelectoralcentral.es/cs/jec/eleccionesEnCurso/Generales-junio2016
 
http://generales2016.infoelecciones.es/Lloc: Pl. de les EscolesOrganitzador: Ajuntament
URI:https://www.ullastrell.cat/actualitat/agenda/eleccions-generals-26062016.html
CLASS:PUBLIC
END:VEVENT
END:VCALENDAR
