BEGIN:VCALENDAR
VERSION:2.0
CALSCALE:GREGORIAN
PRODID:-//Diputació de Barcelona//DibaCMS//EN
BEGIN:VEVENT
UID:2708
DTSTAMP:20260423T064855
DTSTART:20160626T200000
DTEND:20160626T000000
SUMMARY:Festa de la revetlla de Sant Joan
LOCATION:
METHOD:PUBLISH
X-WR-CALNAME:ullastrell@ullastrell.cat
X-WR-TIMEZONE:Europe/Madrid
DESCRIPTION:La Colla de la Gent Gran organitza com cada any una festa de revetlla de Sant Joan amb música i coca!Lloc: Pista PoliesportivaOrganitzador: La Colla de la Gent Gran
URI:https://www.ullastrell.cat/actualitat/agenda/festa-de-la-revetlla-de-sant-joan.html
CLASS:PUBLIC
END:VEVENT
END:VCALENDAR
