BEGIN:VCALENDAR
VERSION:2.0
CALSCALE:GREGORIAN
PRODID:-//Diputació de Barcelona//DibaCMS//EN
BEGIN:VEVENT
UID:2709
DTSTAMP:20260423T073556
DTSTART:20160701T150000
DTEND:20160701T000000
SUMMARY:FI DE CURS "EL CUCUT"
LOCATION:
METHOD:PUBLISH
X-WR-CALNAME:ullastrell@ullastrell.cat
X-WR-TIMEZONE:Europe/Madrid
DESCRIPTION:Festa de final del curs 2015-16 de l'escola bressol municipal EL CUCUT.
Obert a tota la família dels més menuts de la casa!-Lloc: Pl. de les EscolesOrganitzador: ESCOLA I AMPA "EL CUCUT"
URI:https://www.ullastrell.cat/actualitat/agenda/fi-de-curs-el-cucut.html
CLASS:PUBLIC
END:VEVENT
END:VCALENDAR
