BEGIN:VCALENDAR
VERSION:2.0
CALSCALE:GREGORIAN
PRODID:-//Diputació de Barcelona//DibaCMS//EN
BEGIN:VEVENT
UID:2711
DTSTAMP:20260423T081618
DTSTART:20160712T120000
DTEND:20160712T130000
SUMMARY:OFICINA MÒBIL DEL CONSUMIDOR - 12/07/2016
LOCATION:
METHOD:PUBLISH
X-WR-CALNAME:ullastrell@ullastrell.cat
X-WR-TIMEZONE:Europe/Madrid
DESCRIPTION:Oficina móvil del consumidorL'oficina mòbil és un servei gratuït d'atenció al ciutadà, on l'informaran dels pasos a seguir en cas de reclamacions, on acudir etc. per temes de telefònia, companyies electriques, comerços en general, companyies de viatges etc.Lloc: Davant de l'AjuntamentOrganitzador: Ajuntament/Diputació de Barcelona
URI:https://www.ullastrell.cat/actualitat/agenda/oficina-mobil-del-consumidor-12072016.html
CLASS:PUBLIC
END:VEVENT
END:VCALENDAR
