BEGIN:VCALENDAR
VERSION:2.0
CALSCALE:GREGORIAN
PRODID:-//Diputació de Barcelona//DibaCMS//EN
BEGIN:VEVENT
UID:2712
DTSTAMP:20260423T133219
DTSTART:20160715T163000
DTEND:20160715T203000
SUMMARY:DONACIÓ DE SANG - 15/07/2016
LOCATION:
METHOD:PUBLISH
X-WR-CALNAME:ullastrell@ullastrell.cat
X-WR-TIMEZONE:Europe/Madrid
DESCRIPTION:Campanya de Donació de sangCada dia es necessiten més de 1000 donacions per garantir que tothom tingui sang quan la necessita. Per intervencions quirúrgiques, per a tractaments oncològics, per a transplantaments, en cas d'accidents greus.
Pots donar sang si tens 18 anys o més, i si peses 50 kilos o més.
Donar sang és un gest totalment altruista, que no costa res per qui la dona i pot salvar la vida de qui la reb.
 Lloc: SALA EXPOSICIONS DEL CASALOrganitzador: BANC DE SANG I TEIXITS
URI:https://www.ullastrell.cat/actualitat/agenda/donacio-de-sang-15072016.html
CLASS:PUBLIC
END:VEVENT
END:VCALENDAR
