BEGIN:VCALENDAR
VERSION:2.0
CALSCALE:GREGORIAN
PRODID:-//Diputació de Barcelona//DibaCMS//EN
BEGIN:VEVENT
UID:2713
DTSTAMP:20260423T015842
DTSTART:20160710T113000
DTEND:20160710T000000
SUMMARY:SORTIDA GEGANTERA - 10/07/2016
LOCATION:
METHOD:PUBLISH
X-WR-CALNAME:ullastrell@ullastrell.cat
X-WR-TIMEZONE:Europe/Madrid
DESCRIPTION:Passejada dels nostres gegants Bacus i Serralavella, per la festa major de Sant Vicenç de CastelletEls nostres gegants Bacus i Serralavella, participaran a la trobada gegantera de Sant Vicenç de Castellet amb motiu de la seva Festa Major d'estiu, amb moltes més colles geganteresLloc: SANT VICENÇ DE CASTELLETOrganitzador: GEGANTERS D'ULLASTRELL
URI:https://www.ullastrell.cat/actualitat/agenda/sortida-gegantera-10072016.html
CLASS:PUBLIC
END:VEVENT
END:VCALENDAR
