BEGIN:VCALENDAR
VERSION:2.0
CALSCALE:GREGORIAN
PRODID:-//Diputació de Barcelona//DibaCMS//EN
BEGIN:VEVENT
UID:2714
DTSTAMP:20260423T170959
DTSTART:20160730T000000
DTEND:20160731T000000
SUMMARY:SORTIDA GEGANTERA - 30/07/2016
LOCATION:
METHOD:PUBLISH
X-WR-CALNAME:ullastrell@ullastrell.cat
X-WR-TIMEZONE:Europe/Madrid
DESCRIPTION:Sortida gegantera a Sant Julià de LòriaEls nostres gegants participarant a la trobada gegantera, aquesta vegada fora de les nostres fronteres, a Sant Julià de Lòria al principat d'Andorra.Lloc: SANT JULIÀ DE LÒRIA  (ANDORRA)Organitzador: GEGANTERS D'ULLASTRELL
URI:https://www.ullastrell.cat/actualitat/agenda/sortida-gegantera-30072016.html
CLASS:PUBLIC
END:VEVENT
END:VCALENDAR
