BEGIN:VCALENDAR
VERSION:2.0
CALSCALE:GREGORIAN
PRODID:-//Diputació de Barcelona//DibaCMS//EN
BEGIN:VEVENT
UID:2715
DTSTAMP:20260423T121535
DTSTART:20160708T213000
DTEND:20160708T233000
SUMMARY:Nit Jove a la piscina - 08/07/2016
LOCATION:
METHOD:PUBLISH
X-WR-CALNAME:ullastrell@ullastrell.cat
X-WR-TIMEZONE:Europe/Madrid
DESCRIPTION:Ei jove! Tens ganes de passar  una nit amb els amics a la piscina?
Divendres 8 de juliol

Nit en remull
Taller de còctels sense alcohol

Divendres 22 de juliol

Nit en remull
Esports aquàtics

 Lloc: Piscina municipalOrganitzador: Ullastrell Jove
URI:https://www.ullastrell.cat/actualitat/agenda/nit-jove-a-la-piscina-08072016.html
CLASS:PUBLIC
END:VEVENT
END:VCALENDAR
