BEGIN:VCALENDAR
VERSION:2.0
CALSCALE:GREGORIAN
PRODID:-//Diputació de Barcelona//DibaCMS//EN
BEGIN:VEVENT
UID:2717
DTSTAMP:20260423T075156
DTSTART:20160717T090000
DTEND:20160717T000000
SUMMARY:SORTIDA CARAMELLES 2016
LOCATION:
METHOD:PUBLISH
X-WR-CALNAME:ullastrell@ullastrell.cat
X-WR-TIMEZONE:Europe/Madrid
DESCRIPTION:HORA: 

09:00h al Pàrquing de les escoles

PREUS: 

Nens cantaires de caramelles: Gratuït
Nens o estudiants no cantaires: 23.90 euros
Adults: 33 euros.

El preu inclou l'autocar, l'entrada al parc i el dinar
IMPORTANT

Tots els nens han d'anar acompanyats d'un adult
Per confirmar l'assistència podeu trucar als següents números de telèfon, indicant el nombre de persones que hi anireu, les edats, inclosos els cantaires. El pagament s'efectuarà el mateix dia a l'autocar. Mercè Rodó: 608 265 656. Mar Carreras: 625 766 972
teniu temps d'apuntar-vos-hi fins el 12 de juliol

 Lloc: Parc aquàtic MarinelandOrganitzador: Comissió de caramelles
URI:https://www.ullastrell.cat/actualitat/agenda/sortida-caramelles-2016.html
CLASS:PUBLIC
END:VEVENT
END:VCALENDAR
