BEGIN:VCALENDAR
VERSION:2.0
CALSCALE:GREGORIAN
PRODID:-//Diputació de Barcelona//DibaCMS//EN
BEGIN:VEVENT
UID:2718
DTSTAMP:20260422T220143
DTSTART:20160714T213000
DTEND:20160714T000000
SUMMARY:DIJOUS CULTURALS - Camí de Sant Jaume: Peregrins
LOCATION:
METHOD:PUBLISH
X-WR-CALNAME:ullastrell@ullastrell.cat
X-WR-TIMEZONE:Europe/Madrid
DESCRIPTION:Toni Guiñón, Xavier Aloy, Mar Carreras & Cia., veïns i veïnes d'Ullastrell que han arribat a Santiago des de diferents camins sigui a peu o en bicicleta.
Descobriràs el camí que més t'agrada i podràs triar la millor ruta i sobretot no et descuidis dels seus consells.Lloc: Biblioteca Josep MassaguéOrganitzador: Casal Cultural
URI:https://www.ullastrell.cat/actualitat/agenda/dijous-culturals-cami-de-sant-jaume-peregrins.html
CLASS:PUBLIC
END:VEVENT
END:VCALENDAR
