BEGIN:VCALENDAR
VERSION:2.0
CALSCALE:GREGORIAN
PRODID:-//Diputació de Barcelona//DibaCMS//EN
BEGIN:VEVENT
UID:2719
DTSTAMP:20260423T022803
DTSTART:20160715T190000
DTEND:20160715T000000
SUMMARY:Portes obertes "Hostalatge Jordi Sans"
LOCATION:
METHOD:PUBLISH
X-WR-CALNAME:ullastrell@ullastrell.cat
X-WR-TIMEZONE:Europe/Madrid
DESCRIPTION:Acte de portes obertes per ensenyar el nou espai d'Hostalatge d'Ullastrell.
Aquest espai portarà el nom de Jordi Sans, persona que va influir a molts ullastrellencs/es el seu amor per la muntanya i la natura.
 Lloc: Plaça de les EscolesOrganitzador: Ajuntament
URI:https://www.ullastrell.cat/actualitat/agenda/portes-obertes-hostalatge-jordi-sans.html
CLASS:PUBLIC
END:VEVENT
END:VCALENDAR
