BEGIN:VCALENDAR
VERSION:2.0
CALSCALE:GREGORIAN
PRODID:-//Diputació de Barcelona//DibaCMS//EN
BEGIN:VEVENT
UID:2720
DTSTAMP:20260423T200810
DTSTART:20160813T000000
DTEND:20160816T000000
SUMMARY:FESTA MAJOR 2016
LOCATION:
METHOD:PUBLISH
X-WR-CALNAME:ullastrell@ullastrell.cat
X-WR-TIMEZONE:Europe/Madrid
DESCRIPTION:Aquí tens tot el programa complet de la Festa Major 2016 per què no et perdis cap activitat!Lloc: Organitzador: Ajuntament d'Ullastrell
URI:https://www.ullastrell.cat/actualitat/agenda/festa-major-2016.html
CLASS:PUBLIC
END:VEVENT
END:VCALENDAR
