BEGIN:VCALENDAR
VERSION:2.0
CALSCALE:GREGORIAN
PRODID:-//Diputació de Barcelona//DibaCMS//EN
BEGIN:VEVENT
UID:2721
DTSTAMP:20260423T065501
DTSTART:20160716T183000
DTEND:20160716T000000
SUMMARY:Tub d'Assaig. Racons i exhibicions de circ
LOCATION:
METHOD:PUBLISH
X-WR-CALNAME:ullastrell@ullastrell.cat
X-WR-TIMEZONE:Europe/Madrid
DESCRIPTION:Diàbols, plats xinesos, acribàcia aèria, pilotes d'equilibri, xanques i cable d'equilibris.
Els més grans i els més menuts de casa podreu gaudir fent circ!
Activitat per a totes les edats, a partir de 5 anysLloc: Organitzador: 
URI:https://www.ullastrell.cat/actualitat/agenda/tub-dassaig-racons-i-exhibicions-de-circ.html
CLASS:PUBLIC
END:VEVENT
END:VCALENDAR
