BEGIN:VCALENDAR
VERSION:2.0
CALSCALE:GREGORIAN
PRODID:-//Diputació de Barcelona//DibaCMS//EN
BEGIN:VEVENT
UID:2723
DTSTAMP:20260423T023713
DTSTART:20160717T170000
DTEND:20160717T000000
SUMMARY:Mostra dels treballs realitzats per les puntaires d'Ullastrell
LOCATION:
METHOD:PUBLISH
X-WR-CALNAME:ullastrell@ullastrell.cat
X-WR-TIMEZONE:Europe/Madrid
DESCRIPTION:Mostra dels treballs realitzats per les puntaires d'UllastrellLloc: Organitzador: 
URI:https://www.ullastrell.cat/actualitat/agenda/mostra-dels-treballs-realitzats-per-les-puntaires-dullastrell.html
CLASS:PUBLIC
END:VEVENT
END:VCALENDAR
