BEGIN:VCALENDAR
VERSION:2.0
CALSCALE:GREGORIAN
PRODID:-//Diputació de Barcelona//DibaCMS//EN
BEGIN:VEVENT
UID:2724
DTSTAMP:20260423T040722
DTSTART:20160721T220000
DTEND:20160721T000000
SUMMARY:En directe a les estrelles... MARIA BETRIU - Jazz 
LOCATION:
METHOD:PUBLISH
X-WR-CALNAME:ullastrell@ullastrell.cat
X-WR-TIMEZONE:Europe/Madrid
DESCRIPTION:Dins el Cicle Musical avui us oferim l'actuació de:
 
MARIA BETRIU a Quartet
Estàndards de jazz en català
Gratuït
 
Durant l'actuació podeu gaudir de:
*Copa de Clàssic Penedès Morral amb coca per 1,5€
o gin's, mojitos, caipirinha,...Lloc: Terrasseta de l'Altell del Casal CulturalOrganitzador: Comissió del Casal Cultural
URI:https://www.ullastrell.cat/actualitat/agenda/en-directe-a-les-estrelles-maria-betriu-jazz-.html
CLASS:PUBLIC
END:VEVENT
END:VCALENDAR
