BEGIN:VCALENDAR
VERSION:2.0
CALSCALE:GREGORIAN
PRODID:-//Diputació de Barcelona//DibaCMS//EN
BEGIN:VEVENT
UID:2726
DTSTAMP:20260423T201203
DTSTART:20160804T220000
DTEND:20160804T000000
SUMMARY:En directe a les estrelles... ELS AMANTS DE LULÚ - tercet de cordes
LOCATION:
METHOD:PUBLISH
X-WR-CALNAME:ullastrell@ullastrell.cat
X-WR-TIMEZONE:Europe/Madrid
DESCRIPTION:Dins el Cicle Musical avui us oferim l'actuació de:
ELS AMANTS DE LULÚ
Tercet de cordes

PEP MASSANA, violí i veu
ULRIKE KAESE, violí i veu
ADRIÀ BONJOCH, guitarra i veu

Camí entre la música clàssica i el folk de la vella Europa, ells mateixos han batejat aquest estil com a "Eurofolk".
Gratuït
 
Durant l'actuació podeu gaudir de:
*Copa de Clàssic Penedès Morral amb coca per 1,5€
o gin's, mojitos, caipirinha,...
 Lloc: Terrasseta de l'Altell del CasalOrganitzador: Comissió del Casal Cultural
URI:https://www.ullastrell.cat/actualitat/agenda/en-directe-a-les-estrelles-els-amants-de-lulu-tercet-de-cordes.html
CLASS:PUBLIC
END:VEVENT
END:VCALENDAR
