BEGIN:VCALENDAR
VERSION:2.0
CALSCALE:GREGORIAN
PRODID:-//Diputació de Barcelona//DibaCMS//EN
BEGIN:VEVENT
UID:2728
DTSTAMP:20260423T103610
DTSTART:20160721T200000
DTEND:20160721T000000
SUMMARY:XERRADA D'ENERGIES RENOVABLES
LOCATION:
METHOD:PUBLISH
X-WR-CALNAME:ullastrell@ullastrell.cat
X-WR-TIMEZONE:Europe/Madrid
DESCRIPTION:Sota el nom "El món està canviant i tu en pots ser protagonista!" el ponent Pere Soria, Responsable de l'àrea de Renovables de l'empresa Circutor i soci de la cooperativa Som Energia,  ens porta una xerrada sobre les energies renovables.
Se'ns dubte un tema interessant on al final de l'acte es podran fer preguntes i resoldre dubtes.
Us hi esperem!Lloc: Biblioteca Josep MassaguéOrganitzador: Regidoria de Medi Ambient
URI:https://www.ullastrell.cat/actualitat/agenda/xerrada-denergies-renovables.html
CLASS:PUBLIC
END:VEVENT
END:VCALENDAR
