BEGIN:VCALENDAR
VERSION:2.0
CALSCALE:GREGORIAN
PRODID:-//Diputació de Barcelona//DibaCMS//EN
BEGIN:VEVENT
UID:2729
DTSTAMP:20260422T214024
DTSTART:20160727T080000
DTEND:20160727T000000
SUMMARY:SORTIDA GENT GRAN - 27/07/2016
LOCATION:
METHOD:PUBLISH
X-WR-CALNAME:ullastrell@ullastrell.cat
X-WR-TIMEZONE:Europe/Madrid
DESCRIPTION:Sortida de la Colla de la gent granLa Colla de la Gent Gran, visitarà aquest dimecres la fàbrica de cerveses Sant Miguel, dinar i a la tarda visita a Alcarràs a la Cooperativa de fruits de ponent.Lloc: LLEIDAOrganitzador: COLLA DE LA GENT GRAN
URI:https://www.ullastrell.cat/actualitat/agenda/sortida-gent-gran-27072016.html
CLASS:PUBLIC
END:VEVENT
END:VCALENDAR
