BEGIN:VCALENDAR
VERSION:2.0
CALSCALE:GREGORIAN
PRODID:-//Diputació de Barcelona//DibaCMS//EN
BEGIN:VEVENT
UID:2730
DTSTAMP:20260423T215001
DTSTART:20160729T210000
DTEND:20160729T000000
SUMMARY:FINAL CAMPIONAT FUTBOL SALA 2016
LOCATION:
METHOD:PUBLISH
X-WR-CALNAME:ullastrell@ullastrell.cat
X-WR-TIMEZONE:Europe/Madrid
DESCRIPTION:Partit de la final del Campionat de Futbol Sala 2016Lloc: Pista PoliesportivaOrganitzador: CF ULLASTRELL
URI:https://www.ullastrell.cat/actualitat/agenda/final-campionat-futbol-sala-2016.html
CLASS:PUBLIC
END:VEVENT
END:VCALENDAR
