BEGIN:VCALENDAR
VERSION:2.0
CALSCALE:GREGORIAN
PRODID:-//Diputació de Barcelona//DibaCMS//EN
BEGIN:VEVENT
UID:2732
DTSTAMP:20260423T201004
DTSTART:20160829T000000
DTEND:20160909T000000
SUMMARY:CASAL DE SETEMBRE - 29/08/2016
LOCATION:
METHOD:PUBLISH
X-WR-CALNAME:ullastrell@ullastrell.cat
X-WR-TIMEZONE:Europe/Madrid
DESCRIPTION:L'Esplai organitza el Casal de setembre durant aquests dies previs a l'inici de l'escola.Lloc: EsplaiOrganitzador: Esplai 100 Bambes
URI:https://www.ullastrell.cat/actualitat/agenda/casal-de-setembre-29082016.html
CLASS:PUBLIC
END:VEVENT
END:VCALENDAR
