BEGIN:VCALENDAR
VERSION:2.0
CALSCALE:GREGORIAN
PRODID:-//Diputació de Barcelona//DibaCMS//EN
BEGIN:VEVENT
UID:2734
DTSTAMP:20260422T232055
DTSTART:20160905T090000
DTEND:20160905T000000
SUMMARY:INICI CURS - Llar d'Infants EL CUCUT
LOCATION:
METHOD:PUBLISH
X-WR-CALNAME:ullastrell@ullastrell.cat
X-WR-TIMEZONE:Europe/Madrid
DESCRIPTION:Comença el curs escolar 2016-17 a la llar d'infants municipal El Cucut.Lloc: El CucutOrganitzador: Reg. Ensenyament
URI:https://www.ullastrell.cat/actualitat/agenda/inici-curs-llar-dinfants-el-cucut.html
CLASS:PUBLIC
END:VEVENT
END:VCALENDAR
