BEGIN:VCALENDAR
VERSION:2.0
CALSCALE:GREGORIAN
PRODID:-//Diputació de Barcelona//DibaCMS//EN
BEGIN:VEVENT
UID:2735
DTSTAMP:20260423T003714
DTSTART:20160910T000000
DTEND:20160911T000000
SUMMARY:LA DIADA 
LOCATION:
METHOD:PUBLISH
X-WR-CALNAME:ullastrell@ullastrell.cat
X-WR-TIMEZONE:Europe/Madrid
DESCRIPTION:10 de setembre
18h. Mural de La Diada i Construïm La República Catalana
21h. Pl Lluís Companys, botifarrada popular pro-viatge alumnes de 6è Escola Serralavella
22h. Marxes de Torxes
23:30h. Acte d'Hissada de l'Estelada, al Turó
 
11 de setembre
Sortida dels autocars cap a BarcelonaLloc: Organitzador: Reg. Cultura
URI:https://www.ullastrell.cat/actualitat/agenda/la-diada-.html
CLASS:PUBLIC
END:VEVENT
END:VCALENDAR
