BEGIN:VCALENDAR
VERSION:2.0
CALSCALE:GREGORIAN
PRODID:-//Diputació de Barcelona//DibaCMS//EN
BEGIN:VEVENT
UID:2736
DTSTAMP:20260423T121217
DTSTART:20160912T083000
DTEND:20160912T000000
SUMMARY:INICI CURS ESCOLAR
LOCATION:
METHOD:PUBLISH
X-WR-CALNAME:ullastrell@ullastrell.cat
X-WR-TIMEZONE:Europe/Madrid
DESCRIPTION:S'inicia el curs escolar 2016-17 a l'escola local, Serralavella.Lloc: Escola SerralavellaOrganitzador: Reg. Ensenyament
URI:https://www.ullastrell.cat/actualitat/agenda/inici-curs-escolar.html
CLASS:PUBLIC
END:VEVENT
END:VCALENDAR
