BEGIN:VCALENDAR
VERSION:2.0
CALSCALE:GREGORIAN
PRODID:-//Diputació de Barcelona//DibaCMS//EN
BEGIN:VEVENT
UID:2737
DTSTAMP:20260423T084606
DTSTART:20160912T000000
DTEND:20160916T000000
SUMMARY:CONSULTA POPULAR
LOCATION:
METHOD:PUBLISH
X-WR-CALNAME:ullastrell@ullastrell.cat
X-WR-TIMEZONE:Europe/Madrid
DESCRIPTION:Pregunta de la consulta:
"Està vostè d'acord a canviar la festa major de data?"Es podrà respondre Sí o No.
En cas afirmatiu es proposarà una segona pregunta que indicarà , en cas de victòria del "Sí" ,quins són els dies més òptims per a buscar una nova data.En aquesta segona part de la pregunta hi haurà 3 opcions:a) Finals de Juliolb) Principis d'Agostc) Principis de setembreLloc: Organitzador: Ajuntament d'Ullastrell
URI:https://www.ullastrell.cat/actualitat/agenda/consulta-popular.html
CLASS:PUBLIC
END:VEVENT
END:VCALENDAR
