BEGIN:VCALENDAR
VERSION:2.0
CALSCALE:GREGORIAN
PRODID:-//Diputació de Barcelona//DibaCMS//EN
BEGIN:VEVENT
UID:2738
DTSTAMP:20260422T232456
DTSTART:20160913T120000
DTEND:20160913T130000
SUMMARY:OFICINA MÒBIL DEL CONSUMIDOR - 13/09/2016
LOCATION:
METHOD:PUBLISH
X-WR-CALNAME:ullastrell@ullastrell.cat
X-WR-TIMEZONE:Europe/Madrid
DESCRIPTION:Oficina mòbil del consumidor L'oficina mòbil del consumidor és un servei gratuït, en que un tècnic de la Diputació de Barcelona, es desplaça al teu municipi per poder atendre preguntes, dubtes, queixes, referent als consumidors, sobre rebuts de telefonia mòbil o fixe, companyies subministradores de gas, aigua i electricitat, agencies de viatges, o comerços en generalLloc: DAVANT DE L'AJUNTAMENTOrganitzador: DIPUTACIÓ/ AJUNTAMENT
URI:https://www.ullastrell.cat/actualitat/agenda/oficina-mobil-del-consumidor-13092016.html
CLASS:PUBLIC
END:VEVENT
END:VCALENDAR
