BEGIN:VCALENDAR
VERSION:2.0
CALSCALE:GREGORIAN
PRODID:-//Diputació de Barcelona//DibaCMS//EN
BEGIN:VEVENT
UID:2739
DTSTAMP:20260423T022839
DTSTART:20160921T163000
DTEND:20160921T000000
SUMMARY:"LA REVOLTA DE LES LLETRES" amb Santi Rovira
LOCATION:
METHOD:PUBLISH
X-WR-CALNAME:ullastrell@ullastrell.cat
X-WR-TIMEZONE:Europe/Madrid
DESCRIPTION:El Bibliobús ens porta aquest espectacle de Santi Rovira
 
 Lloc: Biblioteca Josep MassaguéOrganitzador: BIBLIOBÚS - BIBLIOTECA MUNICIPAL
URI:https://www.ullastrell.cat/actualitat/agenda/la-revolta-de-les-lletres-amb-santi-rovira.html
CLASS:PUBLIC
END:VEVENT
END:VCALENDAR
