BEGIN:VCALENDAR
VERSION:2.0
CALSCALE:GREGORIAN
PRODID:-//Diputació de Barcelona//DibaCMS//EN
BEGIN:VEVENT
UID:2903
DTSTAMP:20260423T153646
DTSTART:20160926T210000
DTEND:20160926T133000
SUMMARY:REUNIO DE BARRI - Can Gras
LOCATION:
METHOD:PUBLISH
X-WR-CALNAME:ullastrell@ullastrell.cat
X-WR-TIMEZONE:Europe/Madrid
DESCRIPTION:
URI:https://www.ullastrell.cat/actualitat/agenda/reunio-de-barri-can-gras.html
CLASS:PUBLIC
END:VEVENT
END:VCALENDAR
