BEGIN:VCALENDAR
VERSION:2.0
CALSCALE:GREGORIAN
PRODID:-//Diputació de Barcelona//DibaCMS//EN
BEGIN:VEVENT
UID:2907
DTSTAMP:20260423T134856
DTSTART:20161002T190000
DTEND:20161002T203000
SUMMARY:Matilda. El musical
LOCATION:
METHOD:PUBLISH
X-WR-CALNAME:ullastrell@ullastrell.cat
X-WR-TIMEZONE:Europe/Madrid
DESCRIPTION:
URI:https://www.ullastrell.cat/actualitat/agenda/2907-matilda-el-musical.html
CLASS:PUBLIC
END:VEVENT
END:VCALENDAR
