BEGIN:VCALENDAR
VERSION:2.0
CALSCALE:GREGORIAN
PRODID:-//Diputació de Barcelona//DibaCMS//EN
BEGIN:VEVENT
UID:2908
DTSTAMP:20260423T061608
DTSTART:20161016T120000
DTEND:20161016T133000
SUMMARY:Matilda. El musical
LOCATION:
METHOD:PUBLISH
X-WR-CALNAME:ullastrell@ullastrell.cat
X-WR-TIMEZONE:Europe/Madrid
DESCRIPTION:
URI:https://www.ullastrell.cat/actualitat/agenda/matilda-el-musical.html
CLASS:PUBLIC
END:VEVENT
END:VCALENDAR
