BEGIN:VCALENDAR
VERSION:2.0
CALSCALE:GREGORIAN
PRODID:-//Diputació de Barcelona//DibaCMS//EN
BEGIN:VEVENT
UID:2913
DTSTAMP:20260423T065126
DTSTART:20161003T090000
DTEND:20161010T230000
SUMMARY:Concurs fotogràfic #Ullasteta2016
LOCATION:
METHOD:PUBLISH
X-WR-CALNAME:ullastrell@ullastrell.cat
X-WR-TIMEZONE:Europe/Madrid
DESCRIPTION:Acte englobat dins la Setmana Mundial de la Lactància Materna a Ullastrell

URI:https://www.ullastrell.cat/actualitat/agenda/concurs-fotografic-ullasteta2016.html
CLASS:PUBLIC
END:VEVENT
END:VCALENDAR
