BEGIN:VCALENDAR
VERSION:2.0
CALSCALE:GREGORIAN
PRODID:-//Diputació de Barcelona//DibaCMS//EN
BEGIN:VEVENT
UID:2914
DTSTAMP:20260423T153400
DTSTART:20161005T170000
DTEND:20161005T183000
SUMMARY:Xerrada: Alimentació saludable de 0 a 3 anys  #SMLM
LOCATION:Camí de Can Font, s/n 08231 Ullastrell
METHOD:PUBLISH
X-WR-CALNAME:ullastrell@ullastrell.cat
X-WR-TIMEZONE:Europe/Madrid
DESCRIPTION:Acte englobat dins la Setmana Mundial de la Lactància Materna a Ullastrell

URI:https://www.ullastrell.cat/actualitat/agenda/xerrada-alimentacio-saludable-de-0-a-3-anys-smlm.html
CLASS:PUBLIC
END:VEVENT
END:VCALENDAR
