BEGIN:VCALENDAR
VERSION:2.0
CALSCALE:GREGORIAN
PRODID:-//Diputació de Barcelona//DibaCMS//EN
BEGIN:VEVENT
UID:2916
DTSTAMP:20260423T120641
DTSTART:20161008T113000
DTEND:20161008T123000
SUMMARY:Espectacle infantil #SMLM
LOCATION:Carrer Serra 
METHOD:PUBLISH
X-WR-CALNAME:ullastrell@ullastrell.cat
X-WR-TIMEZONE:Europe/Madrid
DESCRIPTION:Acte englobat dins la Setmana Mundial de la Lactància Materna a Ullastrell

URI:https://www.ullastrell.cat/actualitat/agenda/espectacle-infantil-smlm.html
CLASS:PUBLIC
END:VEVENT
END:VCALENDAR
