BEGIN:VCALENDAR
VERSION:2.0
CALSCALE:GREGORIAN
PRODID:-//Diputació de Barcelona//DibaCMS//EN
BEGIN:VEVENT
UID:2917
DTSTAMP:20260423T103950
DTSTART:20161010T170000
DTEND:20161010T183000
SUMMARY:Xerrada: Criança i educació infantil   #SMLM
LOCATION:C/ Josep Fornell, s/n 08231 Ullastrell
METHOD:PUBLISH
X-WR-CALNAME:ullastrell@ullastrell.cat
X-WR-TIMEZONE:Europe/Madrid
DESCRIPTION:Acte englobat dins la Setmana Mundial de la Lactància Materna a Ullastrell

URI:https://www.ullastrell.cat/actualitat/agenda/xerrada-crianca-i-educacio-infantil-smlm.html
CLASS:PUBLIC
END:VEVENT
END:VCALENDAR
