BEGIN:VCALENDAR
VERSION:2.0
CALSCALE:GREGORIAN
PRODID:-//Diputació de Barcelona//DibaCMS//EN
BEGIN:VEVENT
UID:2928
DTSTAMP:20260423T074204
DTSTART:20161002T070000
DTEND:20161002T070000
SUMMARY:BATUDA DEL SENGLAR
LOCATION:CAN PUIG - CAN RODÓ - CAN FONT - LA ROUREDA 
METHOD:PUBLISH
X-WR-CALNAME:ullastrell@ullastrell.cat
X-WR-TIMEZONE:Europe/Madrid
DESCRIPTION:
URI:https://www.ullastrell.cat/actualitat/agenda/batuda-del-senglar.html
CLASS:PUBLIC
END:VEVENT
END:VCALENDAR
