BEGIN:VCALENDAR
VERSION:2.0
CALSCALE:GREGORIAN
PRODID:-//Diputació de Barcelona//DibaCMS//EN
BEGIN:VEVENT
UID:2938
DTSTAMP:20260423T065624
DTSTART:20161014T190000
DTEND:20161014T210000
SUMMARY:Homenatge a Lluís Companys
LOCATION:C/ Josep Fornell, s/n 08231 Ullastrell
METHOD:PUBLISH
X-WR-CALNAME:ullastrell@ullastrell.cat
X-WR-TIMEZONE:Europe/Madrid
DESCRIPTION:
URI:https://www.ullastrell.cat/actualitat/agenda/homenatge-a-lluis-companys.html
CLASS:PUBLIC
END:VEVENT
END:VCALENDAR
