BEGIN:VCALENDAR
VERSION:2.0
CALSCALE:GREGORIAN
PRODID:-//Diputació de Barcelona//DibaCMS//EN
BEGIN:VEVENT
UID:2940
DTSTAMP:20260423T044113
DTSTART:20161022T213000
DTEND:20161022T213000
SUMMARY:Projecció del documental ASTRAL
LOCATION:
METHOD:PUBLISH
X-WR-CALNAME:ullastrell@ullastrell.cat
X-WR-TIMEZONE:Europe/Madrid
DESCRIPTION:Emissió de la pel·lícula documental "Astral" del programa de TV Salvados, sobre la tasca que desenvolupa l'ONG Proactiva Open Arms rescatant del mar els refugiats que fugen de zones de guerra o pobresa.

URI:https://www.ullastrell.cat/actualitat/agenda/projeccio-del-documental-astral.html
CLASS:PUBLIC
END:VEVENT
END:VCALENDAR
