BEGIN:VCALENDAR
VERSION:2.0
CALSCALE:GREGORIAN
PRODID:-//Diputació de Barcelona//DibaCMS//EN
BEGIN:VEVENT
UID:2942
DTSTAMP:20260423T103409
DTSTART:20161016T083000
DTEND:20161016T083000
SUMMARY:Marxa Cicloturista Solidària Velo Club - F. Alba Pérez
LOCATION:Hospitalet del Llobregat amb avituallament a Ullastrell (Pista) 
METHOD:PUBLISH
X-WR-CALNAME:ullastrell@ullastrell.cat
X-WR-TIMEZONE:Europe/Madrid
DESCRIPTION:Marxa no competitiva de velocitat controlada de 75Km. assequible per tots els nivells.

 



URI:https://www.ullastrell.cat/actualitat/agenda/marxa-cicloturista-solidaria-velo-club-f-alba-perez.html
CLASS:PUBLIC
END:VEVENT
END:VCALENDAR
