BEGIN:VCALENDAR
VERSION:2.0
CALSCALE:GREGORIAN
PRODID:-//Diputació de Barcelona//DibaCMS//EN
BEGIN:VEVENT
UID:2943
DTSTAMP:20260423T121233
DTSTART:20161019T200000
DTEND:20161019T200000
SUMMARY:Ple Ordinari 
LOCATION:C/ Serra, 17 08231 Ullastrell
METHOD:PUBLISH
X-WR-CALNAME:ullastrell@ullastrell.cat
X-WR-TIMEZONE:Europe/Madrid
DESCRIPTION:
URI:https://www.ullastrell.cat/actualitat/agenda/ple-ordinari-.html
CLASS:PUBLIC
END:VEVENT
END:VCALENDAR
