BEGIN:VCALENDAR
VERSION:2.0
CALSCALE:GREGORIAN
PRODID:-//Diputació de Barcelona//DibaCMS//EN
BEGIN:VEVENT
UID:2944
DTSTAMP:20260423T073422
DTSTART:20161019T210000
DTEND:20161019T210000
SUMMARY:Sessió informativa - Pressupostos 2017
LOCATION:C/ Serra, 17 08231 Ullastrell
METHOD:PUBLISH
X-WR-CALNAME:ullastrell@ullastrell.cat
X-WR-TIMEZONE:Europe/Madrid
DESCRIPTION:La Sessió començarà una vegada finalitzat el Ple a la Sala de Reunions de l'Ajuntament

URI:https://www.ullastrell.cat/actualitat/agenda/sessio-informativa-pressupostos-2017.html
CLASS:PUBLIC
END:VEVENT
END:VCALENDAR
