BEGIN:VCALENDAR
VERSION:2.0
CALSCALE:GREGORIAN
PRODID:-//Diputació de Barcelona//DibaCMS//EN
BEGIN:VEVENT
UID:2945
DTSTAMP:20260423T061730
DTSTART:20161218T110000
DTEND:20161218T140000
SUMMARY:ULLASTROC
LOCATION:Carrer Serra 
METHOD:PUBLISH
X-WR-CALNAME:ullastrell@ullastrell.cat
X-WR-TIMEZONE:Europe/Madrid
DESCRIPTION:6è mercat d'intercanvi i segona mà d'Ullastrell

URI:https://www.ullastrell.cat/actualitat/agenda/2945-ullastroc.html
CLASS:PUBLIC
END:VEVENT
END:VCALENDAR
